BEGIN:VCALENDAR
VERSION:2.0
PRODID:-//Dale, Huffman &amp; Babcock Lawyers - ECPv6.15.18//NONSGML v1.0//EN
CALSCALE:GREGORIAN
METHOD:PUBLISH
X-ORIGINAL-URL:https://dhblaw.com
X-WR-CALDESC:Events for Dale, Huffman &amp; Babcock Lawyers
REFRESH-INTERVAL;VALUE=DURATION:PT1H
X-Robots-Tag:noindex
X-PUBLISHED-TTL:PT1H
BEGIN:VTIMEZONE
TZID:America/Indiana/Indianapolis
BEGIN:DAYLIGHT
TZOFFSETFROM:-0500
TZOFFSETTO:-0400
TZNAME:EDT
DTSTART:20240310T070000
END:DAYLIGHT
BEGIN:STANDARD
TZOFFSETFROM:-0400
TZOFFSETTO:-0500
TZNAME:EST
DTSTART:20241103T060000
END:STANDARD
BEGIN:DAYLIGHT
TZOFFSETFROM:-0500
TZOFFSETTO:-0400
TZNAME:EDT
DTSTART:20250309T070000
END:DAYLIGHT
BEGIN:STANDARD
TZOFFSETFROM:-0400
TZOFFSETTO:-0500
TZNAME:EST
DTSTART:20251102T060000
END:STANDARD
BEGIN:DAYLIGHT
TZOFFSETFROM:-0500
TZOFFSETTO:-0400
TZNAME:EDT
DTSTART:20260308T070000
END:DAYLIGHT
BEGIN:STANDARD
TZOFFSETFROM:-0400
TZOFFSETTO:-0500
TZNAME:EST
DTSTART:20261101T060000
END:STANDARD
END:VTIMEZONE
BEGIN:VEVENT
DTSTART;TZID=America/Indiana/Indianapolis:20250624T170000
DTEND;TZID=America/Indiana/Indianapolis:20250624T170000
DTSTAMP:20260425T065805
CREATED:20250604T155509Z
LAST-MODIFIED:20250604T155509Z
UID:10000053-1750784400-1750784400@dhblaw.com
SUMMARY:Estate Planning Seminar
DESCRIPTION:Hosted by: Edward Jones w/Hailey Beer\nTuesday\, June 24th @ 5:00pm\nShaka Shack\n143 E. Jackson Street\nMonroe\, Indiana 46772\nRSVP to Danielle Miller 260-301-3859
URL:https://dhblaw.com/event/estate-planning-seminar/
LOCATION:Shaka Shack\, 143 E Jackson St\, Monroe\, IN\, 46772\, United States
ATTACH;FMTTYPE=image/jpeg:https://dhblaw.com/wp-content/uploads/2019/11/dhblawEventImage.jpg
END:VEVENT
END:VCALENDAR