BEGIN:VCALENDAR
VERSION:2.0
PRODID:-//Dale, Huffman &amp; Babcock Lawyers - ECPv6.15.18//NONSGML v1.0//EN
CALSCALE:GREGORIAN
METHOD:PUBLISH
X-WR-CALNAME:Dale, Huffman &amp; Babcock Lawyers
X-ORIGINAL-URL:https://dhblaw.com
X-WR-CALDESC:Events for Dale, Huffman &amp; Babcock Lawyers
REFRESH-INTERVAL;VALUE=DURATION:PT1H
X-Robots-Tag:noindex
X-PUBLISHED-TTL:PT1H
BEGIN:VTIMEZONE
TZID:America/Indiana/Indianapolis
BEGIN:DAYLIGHT
TZOFFSETFROM:-0500
TZOFFSETTO:-0400
TZNAME:EDT
DTSTART:20250309T070000
END:DAYLIGHT
BEGIN:STANDARD
TZOFFSETFROM:-0400
TZOFFSETTO:-0500
TZNAME:EST
DTSTART:20251102T060000
END:STANDARD
BEGIN:DAYLIGHT
TZOFFSETFROM:-0500
TZOFFSETTO:-0400
TZNAME:EDT
DTSTART:20260308T070000
END:DAYLIGHT
BEGIN:STANDARD
TZOFFSETFROM:-0400
TZOFFSETTO:-0500
TZNAME:EST
DTSTART:20261101T060000
END:STANDARD
BEGIN:DAYLIGHT
TZOFFSETFROM:-0500
TZOFFSETTO:-0400
TZNAME:EDT
DTSTART:20270314T070000
END:DAYLIGHT
BEGIN:STANDARD
TZOFFSETFROM:-0400
TZOFFSETTO:-0500
TZNAME:EST
DTSTART:20271107T060000
END:STANDARD
END:VTIMEZONE
BEGIN:VEVENT
DTSTART;VALUE=DATE:20261001
DTEND;VALUE=DATE:20261002
DTSTAMP:20260423T082326
CREATED:20260126T161744Z
LAST-MODIFIED:20260303T145933Z
UID:10000057-1790812800-1790899199@dhblaw.com
SUMMARY:PACE (Programs for All-Inclusive Care for the Elderly)
DESCRIPTION:Keith Huffman will be speaking at the Elder Law Institute on October 1\, 2026\, about PACE (Programs for All-Inclusive Care for the Elderly) in Indianapolis.
URL:https://dhblaw.com/event/pace-programs-for-all-inclusive-care-for-the-elderly/
LOCATION:Elder Law Institute\, Indianapolis\, IN\, United States
ATTACH;FMTTYPE=image/jpeg:https://dhblaw.com/wp-content/uploads/2019/11/dhblawEventImage.jpg
GEO:39.768403;-86.158068
END:VEVENT
END:VCALENDAR