BEGIN:VCALENDAR
VERSION:2.0
PRODID:-//Dale, Huffman &amp; Babcock Lawyers - ECPv6.15.18//NONSGML v1.0//EN
CALSCALE:GREGORIAN
METHOD:PUBLISH
X-WR-CALNAME:Dale, Huffman &amp; Babcock Lawyers
X-ORIGINAL-URL:https://dhblaw.com
X-WR-CALDESC:Events for Dale, Huffman &amp; Babcock Lawyers
REFRESH-INTERVAL;VALUE=DURATION:PT1H
X-Robots-Tag:noindex
X-PUBLISHED-TTL:PT1H
BEGIN:VTIMEZONE
TZID:America/Indiana/Indianapolis
BEGIN:DAYLIGHT
TZOFFSETFROM:-0500
TZOFFSETTO:-0400
TZNAME:EDT
DTSTART:20250309T070000
END:DAYLIGHT
BEGIN:STANDARD
TZOFFSETFROM:-0400
TZOFFSETTO:-0500
TZNAME:EST
DTSTART:20251102T060000
END:STANDARD
BEGIN:DAYLIGHT
TZOFFSETFROM:-0500
TZOFFSETTO:-0400
TZNAME:EDT
DTSTART:20260308T070000
END:DAYLIGHT
BEGIN:STANDARD
TZOFFSETFROM:-0400
TZOFFSETTO:-0500
TZNAME:EST
DTSTART:20261101T060000
END:STANDARD
BEGIN:DAYLIGHT
TZOFFSETFROM:-0500
TZOFFSETTO:-0400
TZNAME:EDT
DTSTART:20270314T070000
END:DAYLIGHT
BEGIN:STANDARD
TZOFFSETFROM:-0400
TZOFFSETTO:-0500
TZNAME:EST
DTSTART:20271107T060000
END:STANDARD
END:VTIMEZONE
BEGIN:VEVENT
DTSTART;TZID=America/Indiana/Indianapolis:20260316T180000
DTEND;TZID=America/Indiana/Indianapolis:20260316T180000
DTSTAMP:20260423T102304
CREATED:20260310T144322Z
LAST-MODIFIED:20260310T144444Z
UID:10000059-1773684000-1773684000@dhblaw.com
SUMMARY:Women In Leadership
DESCRIPTION:Kristin L. Steckbeck will be speaking at the Elevate Wells County event “Women In Leadership” March 16th. It’s a round table discussion and starts at 6PM.\nHere is a link to the event https://www.facebook.com/share/p/1HvRPekZ4E/
URL:https://dhblaw.com/event/women-in-leadership/
LOCATION:Family Centered Services\, 1515 N Sutton Cir Dr\, Bluffton\, IN\, 46714\, United States
ATTACH;FMTTYPE=image/jpeg:https://dhblaw.com/wp-content/uploads/2019/11/dhblawEventImage.jpg
END:VEVENT
END:VCALENDAR